BEGIN:VCALENDAR
VERSION:2.0
PRODID:-//InvisionCommunity Events 4.7.24//EN
METHOD:PUBLISH
CALSCALE:GREGORIAN
REFRESH-INTERVAL:PT15M
X-PUBLISHED-TTL:PT15M
X-WR-CALNAME:Polska
NAME:Polska
BEGIN:VTIMEZONE
TZID:Europe/London
TZURL:http://tzurl.org/zoneinfo/Europe/London
X-LIC-LOCATION:Europe/London
BEGIN:DAYLIGHT
TZOFFSETFROM:+0000
TZOFFSETTO:+0100
TZNAME:BST
DTSTART:20140330T020000Z
RRULE:FREQ=YEARLY;BYMONTH=3;BYDAY=-1SU
END:DAYLIGHT
BEGIN:STANDARD
TZOFFSETFROM:+0100
TZOFFSETTO:+0000
TZNAME:GMT
DTSTART:20141026T020000Z
RRULE:FREQ=YEARLY;BYMONTH=10;BYDAY=-1SU
END:STANDARD
END:VTIMEZONE
BEGIN:VEVENT
SUMMARY:TRANSJURA
DTSTAMP:20140416T080227Z
SEQUENCE:0
UID:867-1-313a1a83bf7e9423d0c88a9da22162b8@www.forumrowerowe.org
ORGANIZER;CN="tkp100":noreply@forumrowerowe.org
DESCRIPTION:\nTRANSJURA to impreza dla  maratończyków rowerowych oraz 
	tych którzy chcą spróbować się z odległością i sobą\, przy rywali
	zacji z innymi zawodnikami i przeciwnościami terenu oraz specyfiką pogod
	y!\nDługość i wyjątkowo wymagające ścieżki oraz drogi Jury Krako
	wsko – Częstochowskiej\, nadają specyficzny ton tej imprezie!\nWażnym
	 elementem zawodów jest Idea TRANSJURY\, która kieruje się w stronę ma
	ksymalnej samowystarczalności zawodników i tym samym NIEDOPUSZCZANIA jak
	iejkolwiek możliwości pomocy zorganizowanej i przygotowanej od osób trz
	ecich.\nDodatkową trudnością jest konieczność stałej uwagi związa
	nej z „trzymaniem” się przebiegów szlaków turystycznych\, którymi
	 biegną trasy TRANSJURY.\nTRASY ROWEROWE \ntrasa ultra Bike: ca 190 km / 
	ca + 3\,5 km + / 24h / start 07:00 sobota - Kraków.\ntrasa marathon Bike:
	 ca 90 km / ca + 1\,5 km + / 12h / start 12:00 sobota - Częstochowa.\n \
	nTrasy rowerowe będą opierały się głównie na przebiegu rowerowego Ju
	rajskiego Szlaku Orlich Gniazd.\nWięcej informacji na www.transjura.pl\n
DTSTART;VALUE=DATE:20140704
END:VEVENT
END:VCALENDAR
