BEGIN:VCALENDAR
VERSION:2.0
PRODID:-//InvisionCommunity Events 4.7.24//EN
METHOD:PUBLISH
CALSCALE:GREGORIAN
REFRESH-INTERVAL:PT15M
X-PUBLISHED-TTL:PT15M
X-WR-CALNAME:Polska
NAME:Polska
BEGIN:VTIMEZONE
TZID:Europe/London
TZURL:http://tzurl.org/zoneinfo/Europe/London
X-LIC-LOCATION:Europe/London
BEGIN:DAYLIGHT
TZOFFSETFROM:+0000
TZOFFSETTO:+0100
TZNAME:BST
DTSTART:20140330T020000Z
RRULE:FREQ=YEARLY;BYMONTH=3;BYDAY=-1SU
END:DAYLIGHT
BEGIN:STANDARD
TZOFFSETFROM:+0100
TZOFFSETTO:+0000
TZNAME:GMT
DTSTART:20141026T020000Z
RRULE:FREQ=YEARLY;BYMONTH=10;BYDAY=-1SU
END:STANDARD
END:VTIMEZONE
BEGIN:VEVENT
SUMMARY:Galicja Orient
DTSTAMP:20140321T231958Z
SEQUENCE:0
UID:864-1-313a1a83bf7e9423d0c88a9da22162b8@www.forumrowerowe.org
ORGANIZER;CN="qnick":noreply@forumrowerowe.org
DESCRIPTION:\nRowerowy maraton na orientację. Trasy Pucharowa (ok. 100+
	60 km)\, Turystyczna (ok. 50 km)\, Rodzinna (ok. 2-12 km)\n \nTo finałow
	y etap cyklu Galicja MTBO Trophy. Jeśli nie załapaliście się na poprze
	dnie\, to nie szkodzi - zawody mają odrębną klasyfikację.\nWięcej inf
	ormacji na stronie http://www.bikeholicy.pl/mtbo\noraz na naszym profilu F
	B http://www.facebook.com/Galicja.MTBO.Trophy\n
DTSTART;VALUE=DATE:20141004
DTEND;VALUE=DATE:20141006
END:VEVENT
END:VCALENDAR
