BEGIN:VCALENDAR
VERSION:2.0
PRODID:-//InvisionCommunity Events 4.7.24//EN
METHOD:PUBLISH
CALSCALE:GREGORIAN
REFRESH-INTERVAL:PT15M
X-PUBLISHED-TTL:PT15M
X-WR-CALNAME:Polska
NAME:Polska
BEGIN:VTIMEZONE
TZID:Europe/London
TZURL:http://tzurl.org/zoneinfo/Europe/London
X-LIC-LOCATION:Europe/London
BEGIN:DAYLIGHT
TZOFFSETFROM:+0000
TZOFFSETTO:+0100
TZNAME:BST
DTSTART:20130331T020000Z
RRULE:FREQ=YEARLY;BYMONTH=3;BYDAY=-1SU
END:DAYLIGHT
BEGIN:STANDARD
TZOFFSETFROM:+0100
TZOFFSETTO:+0000
TZNAME:GMT
DTSTART:20131027T020000Z
RRULE:FREQ=YEARLY;BYMONTH=10;BYDAY=-1SU
END:STANDARD
END:VTIMEZONE
BEGIN:VEVENT
SUMMARY:Wiosenna Odyseja 2013
DTSTAMP:20130428T191023Z
SEQUENCE:0
UID:788-1-313a1a83bf7e9423d0c88a9da22162b8@www.forumrowerowe.org
ORGANIZER;CN="dawidszew":noreply@forumrowerowe.org
DESCRIPTION:\n\nStowarzyszenie Sportowe \"Bikeholicy\" organizuje 19.05.
	2013 r. (niedziela) III Wiosenną Odyseję Miechowską.\n\n\n \n\nOdyseja
	 to Maratony rowerowe na orientację (MTBO)\, impreza otwarta\, o charakte
	rze sportowo-rekreacyjnym\, promująca walory turystyczne regionu - Wyżyn
	y Miechowskiej.\n\n\n\nUczestnicy będą eksplorować teren Wyżyny Miecho
	wskiej indywidualnie na trasach: Klasycznej (Puchar Polski Maratonów Rowe
	rowych na Orientację) długości ok. 100 km i Turystycznej długości ok.
	 45 km).\n\n\n\nNowością będzie Dziecięca miniOdyseja. Zabawa\, w któ
	rej dzieci pod opieką opiekunów będą odnajdować punkty kontrolne rozm
	ieszczone na terenie Miechowa i rozwiązywać quizy o charakterze turystyc
	zno-przyrodniczym.\n\n\n\nKażdy uczestnik dostanie mapkę z zaznaczonymi 
	charakterystycznymi obiektami regionu\, które trzeba będzie znaleźć i 
	potwierdzić ten fakt na specjalnej karcie kontrolnej.\n\n\n\nZadaniem ucz
	estniczących w zawodach będzie pokonanie trasy w postaci punktów kontro
	lnych zaznaczonych na turystycznej mapie i oznaczonych w terenie specjalny
	mi lampionami. Rywalizacja polega na zrobieniu tego w jak najkrótszym cza
	sie (lub w określonych ramach czasowych - na trasie dziecięcej). Droga p
	omiędzy punktami kontrolnymi jest dowolna\, a jej wybór należy do uczes
	tników. Ominięcie punktu kontrolnego wiąże się z karą czasową.\n\n\
	n\nW MDK będzie zorganizowany punkt obsługi rodzin. To znaczy ze będzie
	 można zostawić dziecko (samodzielne) pod opieka dorosłego\, który prz
	ypilnuje. Będą kredki\, kartki oraz inne zabawy na scenie. Kupimy kredę
	 do malowania po betonie i jak będzie pogoda to pokolorujemy ten smutny b
	etonowy amfiteatr.\n\n\n \n\nStrona organizatora\n\n\n
DTSTART;VALUE=DATE:20130519
END:VEVENT
END:VCALENDAR
