BEGIN:VCALENDAR
VERSION:2.0
PRODID:-//InvisionCommunity Events 4.7.24//EN
METHOD:PUBLISH
CALSCALE:GREGORIAN
REFRESH-INTERVAL:PT15M
X-PUBLISHED-TTL:PT15M
X-WR-CALNAME:Polska
NAME:Polska
BEGIN:VTIMEZONE
TZID:Europe/London
TZURL:http://tzurl.org/zoneinfo/Europe/London
X-LIC-LOCATION:Europe/London
BEGIN:DAYLIGHT
TZOFFSETFROM:+0000
TZOFFSETTO:+0100
TZNAME:BST
DTSTART:20130331T020000Z
RRULE:FREQ=YEARLY;BYMONTH=3;BYDAY=-1SU
END:DAYLIGHT
BEGIN:STANDARD
TZOFFSETFROM:+0100
TZOFFSETTO:+0000
TZNAME:GMT
DTSTART:20131027T020000Z
RRULE:FREQ=YEARLY;BYMONTH=10;BYDAY=-1SU
END:STANDARD
END:VTIMEZONE
BEGIN:VEVENT
SUMMARY:Cergovska stopa
DTSTAMP:20130124T102753Z
SEQUENCE:0
UID:728-1-313a1a83bf7e9423d0c88a9da22162b8@www.forumrowerowe.org
ORGANIZER;CN="regebikers":noreply@forumrowerowe.org
DESCRIPTION:Wjazd na Cergov. Zawody w kilku grupach wiekowych zarowno ko
	biet jak i mezczyzn. Dobra atmosfera\, ciekawa trasa. Wiecej info i nocleg
	 pod nr. tel. 00421904844446.
DTSTART;VALUE=DATE:20130209
END:VEVENT
END:VCALENDAR
