BEGIN:VCALENDAR
VERSION:2.0
PRODID:-//InvisionCommunity Events 4.7.24//EN
METHOD:PUBLISH
CALSCALE:GREGORIAN
REFRESH-INTERVAL:PT15M
X-PUBLISHED-TTL:PT15M
X-WR-CALNAME:Polska
NAME:Polska
BEGIN:VTIMEZONE
TZID:Europe/London
TZURL:http://tzurl.org/zoneinfo/Europe/London
X-LIC-LOCATION:Europe/London
BEGIN:DAYLIGHT
TZOFFSETFROM:+0000
TZOFFSETTO:+0100
TZNAME:BST
DTSTART:20120325T020000Z
RRULE:FREQ=YEARLY;BYMONTH=3;BYDAY=-1SU
END:DAYLIGHT
BEGIN:STANDARD
TZOFFSETFROM:+0100
TZOFFSETTO:+0000
TZNAME:GMT
DTSTART:20121028T020000Z
RRULE:FREQ=YEARLY;BYMONTH=10;BYDAY=-1SU
END:STANDARD
END:VTIMEZONE
BEGIN:VEVENT
SUMMARY:miniOdyseja Miechowska 2012
DTSTAMP:20120321T110804Z
SEQUENCE:0
UID:632-1-313a1a83bf7e9423d0c88a9da22162b8@www.forumrowerowe.org
ORGANIZER;CN="qnick":noreply@forumrowerowe.org
DESCRIPTION:\nStowarzyszenie Sportowe \"Bikeholicy\" we współpracy z W
	ydawnictwem Kartograficznym COMPASS serdecznie zapraszają na Wiosenną mi
	niOdyseję Miechowską.\n \nDo wyboru będą dwie trasy:\n- Trasa Turysty
	czna to ok. 45 km\,\n- Trasa Maratonowa to ok. 90 km.\n \nPonieważ jest 
	to impreza na orientację\, to zawodnik decyduje ile punktów zamierza zal
	iczyć i jak duży dystans pokonać. Nie ma obowiązku zdobywania wszystki
	ch punktów. Aby zaliczyć zawody wystarczy potwierdzić połowę punktó
	w i można wracać na metę ...ale trzeba pamiętać\, że apetyt rośnie
	 w miarę jedzenia.\n \nTrasa turystyczna ma charakter rekreacyjny dlateg
	o szczególnie zapraszamy rodziny z dziećmi do wzięcia udziału na tej
	 właśnie trasie.\n \nWięcej informacji można znaleźć na stronie:\nh
	ttp://www.bikeholicy.pl/zawody/mini-odyseja\n
DTSTART:20120414T080000Z
END:VEVENT
END:VCALENDAR
