BEGIN:VCALENDAR
VERSION:2.0
PRODID:-//InvisionCommunity Events 4.7.24//EN
METHOD:PUBLISH
CALSCALE:GREGORIAN
REFRESH-INTERVAL:PT15M
X-PUBLISHED-TTL:PT15M
X-WR-CALNAME:Polska
NAME:Polska
BEGIN:VTIMEZONE
TZID:Europe/London
TZURL:http://tzurl.org/zoneinfo/Europe/London
X-LIC-LOCATION:Europe/London
BEGIN:DAYLIGHT
TZOFFSETFROM:+0000
TZOFFSETTO:+0100
TZNAME:BST
DTSTART:20110327T020000Z
RRULE:FREQ=YEARLY;BYMONTH=3;BYDAY=-1SU
END:DAYLIGHT
BEGIN:STANDARD
TZOFFSETFROM:+0100
TZOFFSETTO:+0000
TZNAME:GMT
DTSTART:20111030T020000Z
RRULE:FREQ=YEARLY;BYMONTH=10;BYDAY=-1SU
END:STANDARD
END:VTIMEZONE
BEGIN:VEVENT
SUMMARY:Epic XC - Brzeg
DTSTAMP:20110322T072116Z
SEQUENCE:1
UID:481-1-313a1a83bf7e9423d0c88a9da22162b8@www.forumrowerowe.org
ORGANIZER;CN="Tankian":noreply@forumrowerowe.org
DESCRIPTION:\nWyścig odbędzie się w dniu 27.03.2011 o godz. 10.00 w m
	iejscowości Brzeg.\nBiuro zawodów czynne w godz. 8.00 – 9.45 w Brzegu 
	przy BankuBGŻ\, ul. Armii Krajowej.\n \nDługość jednego okrążenie o
	k. 2km\n \nMłodzież szkolna(poniżej 13lat)- 2 okrążenia\nMłodzik(13
	-15lat)- 6 okrążeń\nJunior Młodszy(15-17)- 8 okrążeń\nJunior(17-19)
	- 10 okrążeń\nOrlik(19-23)- 12 okrążeń\nElita(23-30)- 12 okrążeń\
	nMasters(powyżej 30 lat)- 12 okrążeń\nKobiety Open - 8 okrążeń\n 
	\nWięcej info:\n \nhttp://www.epicteam.pl/page.php?38\n
DTSTART:20110327T010000Z
END:VEVENT
END:VCALENDAR
