BEGIN:VCALENDAR
VERSION:2.0
PRODID:-//InvisionCommunity Events 4.7.24//EN
METHOD:PUBLISH
CALSCALE:GREGORIAN
REFRESH-INTERVAL:PT15M
X-PUBLISHED-TTL:PT15M
X-WR-CALNAME:Polska
NAME:Polska
BEGIN:VTIMEZONE
TZID:Europe/London
TZURL:http://tzurl.org/zoneinfo/Europe/London
X-LIC-LOCATION:Europe/London
BEGIN:DAYLIGHT
TZOFFSETFROM:+0000
TZOFFSETTO:+0100
TZNAME:BST
DTSTART:20100328T020000Z
RRULE:FREQ=YEARLY;BYMONTH=3;BYDAY=-1SU
END:DAYLIGHT
BEGIN:STANDARD
TZOFFSETFROM:+0100
TZOFFSETTO:+0000
TZNAME:GMT
DTSTART:20101031T020000Z
RRULE:FREQ=YEARLY;BYMONTH=10;BYDAY=-1SU
END:STANDARD
END:VTIMEZONE
BEGIN:VEVENT
SUMMARY:Masa na 1%
DTSTAMP:20100401T073506Z
SEQUENCE:1
UID:195-1-313a1a83bf7e9423d0c88a9da22162b8@www.forumrowerowe.org
ORGANIZER;CN="ssszakalll":noreply@forumrowerowe.org
DESCRIPTION:\nGorąco zapraszamy wszystkich rowerzystów (i nie tylko) d
	o wzięcia udziału w „Masie na 1%”\, organizowanej wspólnie przez mi
	asto stołeczne Warszawa oraz Warszawską Masę Krytyczną. Będzie to kul
	minacja trwającej od stycznia miejskiej kampanii „1%”\, zachęcające
	j warszawiaków do przekazywania 1% podatku na rzecz stołecznych organiza
	cji pożytku publicznego. Do udziału w „Masie” zapraszamy wszystkich
	\, którym nie jest obojętny los warszawskich organizacji pożytku public
	znego.\nNa zakończenie imprezy zaprosimy Was do ustawienia się na pl. Za
	mkowym w kształt wielkiej jedynki i zrobimy pamiątkowe zdjęcie. Dla ucz
	estników „Masy na 1%” przygotowaliśmy atrakcyjne gadżety rowerowe.
	\n \nTrasa przejazdu:\nPl. Zamkowy\, Krakowskie Przedmieście\, Królewsk
	a\, Pl. Piłsudskiego\, Moliera\, Nowy Przejazd\, Most Śląsko-Dąbrowski
	\, Al. Solidarności\, 11 listopada\, Stalowa\, Szwedzka\, Kosmowskiej\, G
	rodzieńska\, Białostocka\, Nieporęcka\, Ząbkowska\, Brzeska\, Kijowska
	\, Targowa\, Al. Zieleniecka\, Francuska\, Zwycięzców\, Saska\, Al. Sta
	nów Zjednoczonych\, Most Łazienkowski\, Solec\, Wioślarska\, Ludna\, 
	Książęca\, Nowy Świat\, Świętokrzyska\, Tamka\, Dobra\, Karowa\, Kra
	kowskie Przedmieście\, Pl. Zamkowy.\n \nWięcej informacji:\nhttp://www.
	masa.waw.pl/127\nhttp://www.um.warszawa.pl/ngo/\n
DTSTART:20100410T020000Z
END:VEVENT
END:VCALENDAR
